BEGIN:VCALENDAR
VERSION:2.0
PRODID:-//vsquarehealth.com - ECPv6.15.11//NONSGML v1.0//EN
CALSCALE:GREGORIAN
METHOD:PUBLISH
X-ORIGINAL-URL:https://vhealthhorizon.com
X-WR-CALDESC:Events for vsquarehealth.com
REFRESH-INTERVAL;VALUE=DURATION:PT1H
X-Robots-Tag:noindex
X-PUBLISHED-TTL:PT1H
BEGIN:VTIMEZONE
TZID:UTC
BEGIN:STANDARD
TZOFFSETFROM:+0000
TZOFFSETTO:+0000
TZNAME:UTC
DTSTART:20240101T000000
END:STANDARD
END:VTIMEZONE
BEGIN:VEVENT
DTSTART;VALUE=DATE:20250714
DTEND;VALUE=DATE:20250717
DTSTAMP:20260422T161514
CREATED:20250315T205403Z
LAST-MODIFIED:20250315T205423Z
UID:2399-1752451200-1752710399@vhealthhorizon.com
SUMMARY:2nd International Conference on Digital Health and Telemedicine
DESCRIPTION:We warmly welcome you to the Digital Health Conference\, a premier international event focused on driving transformative changes in the healthcare industry through integrating digital health and telemedicine. It is with great pleasure that we announce the upcoming 2nd International Conference on Digital Health and Telemedicine\, scheduled to take place in the vibrant city of Rome\, Italy from July 14-16\, 2025. With the distinguished theme of “Transforming Healthcare through Digital Health and Telemedicine\,” this conference aims to bring together esteemed experts\, distinguished personalities from academia and industry\, as well as healthcare professionals from around the world. Together\, we will explore innovative strategies\, cutting-edge technologies\, and ground breaking research in this dynamic field. Our collective goal is to revolutionize healthcare delivery\, fostering an advanced society and enhancing health outcomes for all. Together\, we will shape the future of healthcare by harnessing the potential of digital health and telemedicine. At the Digital Health Meeting\, our primary objective is to drive the future of healthcare delivery by utilizing cutting-edge digital technology. With the rapid progress in digital health and telemedicine\, patients now have access to streamlined and impactful care\, resulting in improved outcomes\, increased accessibility\, and lower healthcare costs. \nDigital Health 2025 will provide an exceptional platform for learning\, networking\, and gaining invaluable insights into healthcare transformation through digital health and telemedicine. This telehealth event revolves around the theme of “Transforming Healthcare through Digital Health and Telemedicine\,” ensuring that attendees can expect a diverse range of captivating sessions. The sessions at the digital health conference encompass engaging keynote presentations\, interactive workshops\, insightful panel discussions\, and thought-provoking case studies. We carefully curate each session to provide practical knowledge\, actionable strategies\, and evidence-based solutions for the effective management and treatment of digital health. By attending this digital health conference\, you can anticipate gaining a comprehensive understanding of the latest advancements in digital health and telemedicine\, as well as networking with industry experts and like-minded professionals. Join us and be part of this unique opportunity to explore the forefront of healthcare transformation and discover innovative approaches that will shape the future of the industry. \nImmerse yourself in Rome’s vibrant conference scene\, where history converges with technological innovation. Engage in fruitful discussions with experts in digital health and telemedicine amidst the city’s lively atmosphere. Rome’s renowned research institutions\, thriving startup ecosystem\, and diverse neighborhoods foster groundbreaking ideas. Explore iconic landmarks\, savor international cuisines\, and experience the city’s vibrant nightlife. Let Rome’s energy inspire you to make valuable contributions and forge lasting connections in this rapidly evolving field. Join us in this dynamic city to discover the captivating blend of rich history and cutting-edge advancements in digital health and telemedicine. Register now for the Digital Health Conference and Telemedicine Meetings.
URL:https://vhealthhorizon.com/event/2nd-international-conference-on-digital-health-and-telemedicine/
LOCATION:Digital Health & Telemedicine\, Rome\, Italy
CATEGORIES:Events
ATTACH;FMTTYPE=image/webp:https://vhealthhorizon.com/wp-content/uploads/2025/03/International-Conference-on-Digital-Health.webp
END:VEVENT
BEGIN:VEVENT
DTSTART;VALUE=DATE:20250626
DTEND;VALUE=DATE:20250628
DTSTAMP:20260422T161514
CREATED:20250315T204247Z
LAST-MODIFIED:20250315T204258Z
UID:2394-1750896000-1751068799@vhealthhorizon.com
SUMMARY:4th Global Conclave on Advanced Cardiology and Cardiovascular Innovations
DESCRIPTION:We are pleased to extend a warm welcome to all professionals and academics from all over the world to Berlin\, Germany for the 4th Global Conclave on Advanced\nCardiology and Cardiovascular Innovations\, which will be held from June 26-27\, 2025.  \nThe cardiology conference brings together experts in the field to give you the best education possible. The scientific program has been created to offer a summary of the most recent advancements in the diagnosis and treatment of cardiovascular (CV) disease\, with a focus on arrhythmias\, structural heart disease\, coronary artery disease\, heart failure\, valvular heart disease\, preventative cardiology\, and innovations in cardiology. This conference represents a steadfast investment in education as well as a solid portfolio of translational and clinical research. \nMany distinguished cardiologists and scientists will participate in this congress. Papers will be presented in plenary sessions\, distinguished speaker sessions\, workshops\, symposia\, and posters includes excellent scientific material. These studies\, which come from laboratories in 50+ countries\, to ensure that the meeting will be a major scientific event. The scientific program will also feature a number of case studies with faculty members that will highlight both common and complicated coronary\, peripheral\, and structural problems. \nAdv.Cardiology 2025 will also let industries to demonstrate their latest products\, devices\, and medical instruments to cardiologists. I invite you all to attend and make this meeting a grand success.
URL:https://vhealthhorizon.com/event/4th-global-conclave-on-advanced-cardiology-and-cardiovascular-innovations/
LOCATION:Advanced Cardiology and Cardiovascular Innovations\, Berlin\, Germany
CATEGORIES:Events
ATTACH;FMTTYPE=image/jpeg:https://vhealthhorizon.com/wp-content/uploads/2025/03/cover-2-1-34-644.jpg
END:VEVENT
BEGIN:VEVENT
DTSTART;VALUE=DATE:20250625
DTEND;VALUE=DATE:20250627
DTSTAMP:20260422T161514
CREATED:20250315T203113Z
LAST-MODIFIED:20250315T203127Z
UID:2388-1750809600-1750982399@vhealthhorizon.com
SUMMARY:EBME Expo
DESCRIPTION:The EBME Expo has been operating for 16 years and has established itself as the UK’s largest gathering of clinical engineers\, EBME managers\, and support staff. The exhibition targets a broad audience\, including healthcare procurement officials\, operating theatre managers\, and ODPs\, catering to the full life cycle of medical equipment users—from purchasing and installation to setup\, maintenance\, and replacement. \nThe 16th edition presents an unparalleled gateway to the UK healthcare market. It’s an exceptional opportunity for international companies to showcase their innovations in healthcare technology and biomedical engineering. Seize this chance to connect with industry leaders\, expand your network\, and explore new business prospects. Your gateway to success in the thriving UK healthcare sector awaits!
URL:https://vhealthhorizon.com/event/ebme-expo/
LOCATION:Coventry Building Society Arena\, Judds Ln\, Coventry\, CV6 6GE\, United Kingdom
CATEGORIES:Events
ATTACH;FMTTYPE=image/jpeg:https://vhealthhorizon.com/wp-content/uploads/2025/03/home-carousel-img1.jpg
END:VEVENT
BEGIN:VEVENT
DTSTART;VALUE=DATE:20250623
DTEND;VALUE=DATE:20250625
DTSTAMP:20260422T161514
CREATED:20250315T201550Z
LAST-MODIFIED:20250315T201614Z
UID:2384-1750636800-1750809599@vhealthhorizon.com
SUMMARY:NEURO Conclave 2025 conference
DESCRIPTION:Conferences are vital forum for academic researchers and business leaders. “It involves multiple presentations\, interactive breakout sessions\, hands-on product demonstrations and unrivalled networking opportunities”. \nWe have invited some of the world’s most sought-after keynote speakers\, experts\, brand ambassadors\, and industry leaders to share their thoughts and ideas with our conference guests.
URL:https://vhealthhorizon.com/event/neuro-conclave-2025-conference/
LOCATION:NEURO Conclave 2025 conference\, Berlin\, Berlin\, Germany
CATEGORIES:Events
ATTACH;FMTTYPE=image/jpeg:https://vhealthhorizon.com/wp-content/uploads/2025/03/cover-1-1-49-643.jpg
END:VEVENT
BEGIN:VEVENT
DTSTART;VALUE=DATE:20250616
DTEND;VALUE=DATE:20250618
DTSTAMP:20260422T161514
CREATED:20250315T200510Z
LAST-MODIFIED:20250315T200522Z
UID:2377-1750032000-1750204799@vhealthhorizon.com
SUMMARY:Medtech MVP Conference
DESCRIPTION:Medtech MVP is an annual gathering of the leading innovators\, investors and executives from around the nation discussing the timeliest issues and opportunities. This conference features candid discussions (panels or 1-on-1 conversations) that explore relevant topics for medtech innovators and business leaders as well as ample networking in a tight community. The many years of successful Medtech MVP programming have relied on insightful and beneficial perspectives and recommendations from our various keynotes and panels. \nIf you have a compelling story to share with 300+ innovators\, investors\, and executives attending this boutique event\, we encourage you to submit a speaking proposal.
URL:https://vhealthhorizon.com/event/medtech-mvp-conference/
LOCATION:Four Seasons Hotel\, Four Seasons Hotel\, Minneapolis\, MN\, United States
CATEGORIES:Events
ATTACH;FMTTYPE=image/png:https://vhealthhorizon.com/wp-content/uploads/2025/03/Screenshot-2025-03-16-012808.png
END:VEVENT
BEGIN:VEVENT
DTSTART;VALUE=DATE:20250523
DTEND;VALUE=DATE:20250524
DTSTAMP:20260422T161514
CREATED:20250315T100337Z
LAST-MODIFIED:20250315T100337Z
UID:2314-1747958400-1748044799@vhealthhorizon.com
SUMMARY:IHF World Hospital Congress in 2025
DESCRIPTION:The IHF has announced that the 48th World Hospital Congress will be held in Geneva\, Switzerland\, in November 2025 with the University Hospital of Geneva (HUG) and the Canton serving as host. The Congress brings together hospital leaders and healthcare system executives to connect around global learning for local action while attracting around 1500 participants each year from more than 90 countries.\nThe IHF will collaborate with the University Hospital of Geneva (HUG) and the Canton of Geneva to host the annual event at the International Conference Centre of Geneva (CICG) from 10 to 13 November 2025. This marks the first time in history that the event is being held in Geneva and a significant occasion for the IHF as the city is also home to its headquarters. Switzerland has hosted two previous editions of the congress; in Lucerne in 1955\, and in Lausanne in 1983. \nFollowing on from the selection of the host organization\, representatives of the HUG will join the organizing committee of the 2025 edition of this event. The Congress brings together hospital leaders and healthcare system executives to connect around global learning for local action. The IHF is the only organization that provides a global forum specifically for leaders and executives to build capacity and foster good practice in the management of healthcare delivery. \nImproving the standard\, quality\, and level of service delivery\nThe HUG is a stand-alone associate member of the IHF and a long-standing supporter of its mission to promote leadership development\, knowledge exchange\, and advocacy to improve the standard\, quality\, and level of service delivery in hospitals and healthcare settings. In addition to holding a seat on the IHF’s Governing Council\, the HUG supported the IHF to establish the Geneva Sustainability Centre. The centre provides a global platform for hospitals to evolve as leaders for sustainability in their communities. The HUG has also provided the IHF with office space for its headquarters since 2011. \nRonald Lavater\, CEO of the IHF\, explained the NGO’s strong ties to Geneva: \n“It’s a great honour to be able to bring our World Hospital Congress to Geneva for the first time. This could not have been possible without the support of the outgoing Director general of HUG and board member of the IHF\, Bertrand Levrat. Bertrand championed our proposal and gained strong support from the HUG\, the Canton of Geneva\, and Geneva Convention Bureau\, which made it possible. The HUG is an active member within H+ Swiss Hospitals\, the IHF’s full national member. We look forward to working with all of these Swiss organizations to bring to our home city an outstanding World Hospital Congress.” \nAlain Kolly\, HUG Acting director general\, declared: \n“The HUG is deeply honoured to be hosting its fellow pioneering healthcare institutions\, from the IHF family and beyond. The 2025 IHF Congress will allow participants to discover not only our local expertise but also the synergies we have developed\, both locally and internationally.” \nAlain-Dominique Mauris\, President of the HUG Executive board added: \n“The University Hospital of Geneva has a legacy of nurturing networks and collaborations. Its deep commitment to global knowledge exchange and sustainability in the healthcare sector underpins our vision for the organization of this event with IHF and our national partners.” \nGeneva Minister for Health and Mobility\, Pierre Maudet observed: \n“Geneva is home to over 40 international organizations and 400 NGOs and its ability to forge impactful partnerships on a global scale is renowned. Geneva is excited to welcome the IHF Congress and thus contribute to further advancing shared global goals in healthcare.” \nThe IHF’s Geneva Sustainability Centre will influence the programme\nThe Congress attracts around 1500 participants each year from more than 90 countries. An announcement about the scientific tracks and abstract submissions for the 2025 Congress will be made in November 2024. The programme will include a stimulating array of plenary and parallel sessions\, pre-congress masterclasses\, invitational forums\, workshops\, networking opportunities\, local hospital visits\, and poster presentations. Participants can also look forward to booking a seat at the IHF Awards Ceremony and Gala Dinner – a celebration to recognize outstanding hospital projects\, programmes\, and services on a global stage. \nSustainability will be integral to the organization and delivery of the 48th World Hospital Congress. The IHF’s Geneva Sustainability Centre\, which supports hospital and healthcare executives leading the transformation to low carbon\, resilient\, and sustainable healthcare\, will influence the programme as one of the core tracks designed by the scientific committee. The organizing committee will also prioritize delivering an environmentally sustainable Congress\, which can act as an example to participants for ways to reduce the carbon footprint of events\, as well as providing a positive experience to visitors and preserving the local environment for its community. \nFrom innovation to implementation\nInnovation will also be a key focus at the 48th edition\, with the return of the IHF’s i-to-i Innovation Hub – from innovation to implementation – which was first introduced at the Congress in 2023. The Hub showcases cutting-edge innovations that can demonstrate their impact in transforming hospital and healthcare-delivery settings. The Hub will have a bespoke space at the Congress venue\, promoting collaboration\, and enabling participants to engage directly with the featured innovators.
URL:https://vhealthhorizon.com/event/ihf-world-hospital-congress-in-2025/
LOCATION:Geneva\, Geneva\, Switzerland\, Switzerland
CATEGORIES:Events
ATTACH;FMTTYPE=image/jpeg:https://vhealthhorizon.com/wp-content/uploads/2025/03/WHC-2025-Geneva-skyline-with-logo-e1716456904831.jpg
END:VEVENT
BEGIN:VEVENT
DTSTART;VALUE=DATE:20250519
DTEND;VALUE=DATE:20250523
DTSTAMP:20260422T161514
CREATED:20250315T212224Z
LAST-MODIFIED:20250315T212235Z
UID:2415-1747612800-1747958399@vhealthhorizon.com
SUMMARY:Accelerating Health Equity Conference
DESCRIPTION:In light of recent Executive Orders and the uncertain legal environment\, the American Hospital Association is undertaking a thoughtful review of its programs and activities. After much deliberation\, we are postponing the Accelerating Health Equity conference\, slated for May 19-22\, 2025\, to 2026. \nTo be clear: our longstanding commitment to reducing disparities in health outcomes has not changed\, and the AHA will continue to pursue this important work. We are well aware of the hard data showing that disparities in health outcomes still exist. Reducing these disparities is essential to improving the health of all Americans and it continues to be our goal. \n  \n 
URL:https://vhealthhorizon.com/event/accelerating-health-equity-conference/
LOCATION:Accelerating Health Equity\, Atlanta\, GA\, United States
CATEGORIES:Events
ATTACH;FMTTYPE=image/webp:https://vhealthhorizon.com/wp-content/uploads/2025/03/AHEQ-2025-Atlanta-Skyline-1170x450-1.webp
END:VEVENT
BEGIN:VEVENT
DTSTART;VALUE=DATE:20250519
DTEND;VALUE=DATE:20250522
DTSTAMP:20260422T161514
CREATED:20250315T210143Z
LAST-MODIFIED:20250315T210214Z
UID:2406-1747612800-1747871999@vhealthhorizon.com
SUMMARY:Cognition Conferences
DESCRIPTION:Nursing Conference\n\n\n\n\nWe are delighted to invite you to the Advanced Nursing & Nursing Practice Conference\, hosted by Cognition Conferences from May 19–21\, 2025\, in Osaka\, Japan. The conference theme\, “Pioneering Frontiers\, Enhancing Care: Mapping the Future of Nursing Practice\,” aims to bring together prominent figures from the nursing community and related sectors for approximately 30 scientific sessions. This event aspires to become a globally recognized platform for individuals interested in sharing knowledge\, collaborating\, and exploring innovative nursing applications. Attendees will include a diverse group of academics\, researchers\, stakeholders\, and business professionals. \nCognition Conferences serves as a platform for researchers to share their insights\, outcomes\, and strategic roadmaps with the conference audience\, fostering collaboration and collective responsibility for a better world.
URL:https://vhealthhorizon.com/event/cognition-conferences/
LOCATION:DoubleTree\, DoubleTree by Hilton Kyoto Station\, Osaka\, Japan
CATEGORIES:Events
ATTACH;FMTTYPE=image/jpeg:https://vhealthhorizon.com/wp-content/uploads/2025/03/home-banner.jpg
END:VEVENT
BEGIN:VEVENT
DTSTART;VALUE=DATE:20250519
DTEND;VALUE=DATE:20250521
DTSTAMP:20260422T161514
CREATED:20250315T211350Z
LAST-MODIFIED:20250315T211414Z
UID:2410-1747612800-1747785599@vhealthhorizon.com
SUMMARY:Venture\, Innovation & Partnering Conference
DESCRIPTION:The Digital Healthcare Innovation Summit (DHIS) is an unparalleled annual gathering of the leading innovators\, investors\, payers\, providers and policymakers who are driving the digital health revolution. While COVID-19 forced us to postpone the 2020 in-person event\, we didn’t want the compelling stories that drive our community forward to stop. Until we can meet in person\, the DHIS Spotlight Series will feature discussions (panels or 1-on-1 conversations) that explore relevant topics for digital health innovators and business leaders.
URL:https://vhealthhorizon.com/event/venture-innovation-partnering-conference/
LOCATION:Venture\, Innovation & Partnering Conference\, Boston\, MA\, United States
CATEGORIES:Events
ATTACH;FMTTYPE=image/png:https://vhealthhorizon.com/wp-content/uploads/2025/03/DHIS-LI-header.png
END:VEVENT
BEGIN:VEVENT
DTSTART;VALUE=DATE:20250315
DTEND;VALUE=DATE:20250316
DTSTAMP:20260422T161514
CREATED:20250315T102318Z
LAST-MODIFIED:20250315T102330Z
UID:2336-1741996800-1742083199@vhealthhorizon.com
SUMMARY:6th Edition of Global Conference on Surgery and Anaesthesia
DESCRIPTION:We are excited to announce the “6th Edition of Global Conference on Surgery and Anaesthesia” (GCSA 2025)\, taking place in London\, UK and Virtually from September 15-17\, 2025. This prestigious event will be an excellent platform for exploring the latest innovations and trends in the field\, with the theme “Global Perspectives on Surgical and Anaesthetic Advances “. \nGCSA 2025 will bring together a diverse group of experts\, including surgical specialists\, anaesthetists\, clinical researchers\, and medical practitioners. This gathering will foster an environment of collaboration and knowledge exchange among professionals dedicated to advancing surgical and anaesthetic practices. Attendees will benefit from a rich array of sessions designed to facilitate professional development and networking. \nThe conference will cover an extensive range of topics\, from Orthopedic and Pediatric Surgery to Anaesthesia techniques and Robotics in Surgery. The program will address both fundamental and cutting-edge developments in areas such as Organ Transplantation\, Neuro Surgery\, and minimally invasive techniques. The comprehensive agenda is tailored to provide valuable insights into the evolving landscape of surgery and anaesthesia. \nParticipants will have the opportunity to engage in thought-provoking discussions\, present their latest research findings\, and explore new methodologies. With a variety of workshops\, presentations\, and interactive sessions\, GCSA 2025 promises a dynamic and enriching experience for all attendees. \nIn summary\, GCSA 2025 is poised to be a landmark event\, bringing together global experts to advance the field of surgery and anaesthesia. Join us in London for a transformative experience in this vital medical discipline.
URL:https://vhealthhorizon.com/event/6th-edition-of-global-conference-on-surgery-and-anaesthesia/
LOCATION:Sheraton Skyline Hotel London Heathrow\, Heathrow Airport\, Bath Rd\,\, London\, England\, UB3 5BP\, United Kingdom
CATEGORIES:Events
ATTACH;FMTTYPE=image/png:https://vhealthhorizon.com/wp-content/uploads/2025/03/Screenshot-2025-03-15-155017.png
END:VEVENT
END:VCALENDAR